BEGIN:VCALENDAR
VERSION:2.0
PRODID:-//Allen County Soil and Water Conservation District - ECPv6.9.0//NONSGML v1.0//EN
CALSCALE:GREGORIAN
METHOD:PUBLISH
X-ORIGINAL-URL:https://allenswcd.org
X-WR-CALDESC:Events for Allen County Soil and Water Conservation District
REFRESH-INTERVAL;VALUE=DURATION:PT1H
X-Robots-Tag:noindex
X-PUBLISHED-TTL:PT1H
BEGIN:VTIMEZONE
TZID:UTC
BEGIN:STANDARD
TZOFFSETFROM:+0000
TZOFFSETTO:+0000
TZNAME:UTC
DTSTART:20260101T000000
END:STANDARD
END:VTIMEZONE
BEGIN:VEVENT
DTSTART;TZID=UTC:20260217T073000
DTEND;TZID=UTC:20260217T083000
DTSTAMP:20260421T094801
CREATED:20260130T185818Z
LAST-MODIFIED:20260130T185818Z
UID:4192-1771313400-1771317000@allenswcd.org
SUMMARY:Coffee & Conservation
DESCRIPTION:Join us for coffee and conversation about conservation! \nThis will be an opportunity to chat with Mark Muntzinger about your conservation concerns and ask any questions you have about planting cover crops.
URL:https://allenswcd.org/event/coffee-conservation/
LOCATION:Blueberry Pancake House\, 104 E South St\, Monroeville\, 46773\, United States
END:VEVENT
END:VCALENDAR