BEGIN:VCALENDAR
VERSION:2.0
PRODID:-//Allen County Soil and Water Conservation District - ECPv6.9.0//NONSGML v1.0//EN
CALSCALE:GREGORIAN
METHOD:PUBLISH
X-WR-CALNAME:Allen County Soil and Water Conservation District
X-ORIGINAL-URL:https://allenswcd.org
X-WR-CALDESC:Events for Allen County Soil and Water Conservation District
REFRESH-INTERVAL;VALUE=DURATION:PT1H
X-Robots-Tag:noindex
X-PUBLISHED-TTL:PT1H
BEGIN:VTIMEZONE
TZID:UTC
BEGIN:STANDARD
TZOFFSETFROM:+0000
TZOFFSETTO:+0000
TZNAME:UTC
DTSTART:20260101T000000
END:STANDARD
END:VTIMEZONE
BEGIN:VEVENT
DTSTART;TZID=UTC:20260225T080000
DTEND;TZID=UTC:20260225T093000
DTSTAMP:20260421T094548
CREATED:20260222T044839Z
LAST-MODIFIED:20260222T044839Z
UID:4201-1772006400-1772011800@allenswcd.org
SUMMARY:Allen County SWCD February Board Meeting
DESCRIPTION:The February meeting of the Board of Supervisors will be held at the Allen County Soil and Water Conservation District’s office\, on the campus of Dupont Hospital (Lutheran Healthcare) near the intersection of I-69 and I-469. Click the title for details. \nDRAFT agenda: \n1.  Approval Minutes\n2.  Treasurer’s Report\n3.  Old Business\n4.  New Business\n5.  Director’s Report\n6.  Project Updates\n7.  Partner Reports\n8.  Upcoming Events
URL:https://allenswcd.org/event/allen-county-swcd-february-board-meeting-2/
LOCATION:Allen County SWCD Office\, 2720 Dupont Commerce Ct.\, Suite 101\, Fort Wayne\, IN\, 46825\, United States
END:VEVENT
END:VCALENDAR